BEGIN:VCALENDAR
PRODID:NingEventWidget-v1
VERSION:2.0
METHOD:PUBLISH
BEGIN:VEVENT
UID:4320450:Event:800
DTSTAMP:20260425T142741Z
SUMMARY:THE 2HR $20 OPEN BAR @ HEAT l 1.21.10 l
DESCRIPTION:HEAT LOUNGE: injects a new dimension into the bar scene ar
 ound Old City giving Philadelphia exactly what they been craving; a hi
 gh-end upscale Ultra Lounge with the best looking crowd in Old City.\n
 \n((DRINK SPECIALS))\n\n( ∞ ) $20 Open Bar From 10-12AM (Mid-Shelf D
 rinks)\n( ∞ ) $5 Red bull Vodka (Until Midnight)\n( ∞ ) $3 Domesti
 cs All Night\n\n♫♬ DJ Joey Catz Will Be Taking You On A Musical Ad
 venture\n\n• The Beautiful Guest Bartender Mellissa Chen Of (Adesso 
 Club) Slingin' The Drinks Your Way All Night.\n\n≫ $150 Bottles Of G
 rey Goose ≪ [Highly Recommended]\n\nTo Book A Table For This Event A
 sk For Josh l 610.220.9059\n\n21 + Event l Casual Dress\nNo Sneaks Or 
 Hats\n----------------------------------------------------------------
 ---------------------------\nHEAT LOUNGE l 112 Chestnut Street l Phila
 delphia PA\n----------------------------------------------------------
 ---------------------------------\nWant To Help Us Out?\nClick Invite 
 More People On The Event!\nAll Help Is Appreciated\n\nJosh Newy\nnewyp
 romos@gmail.com\n610.220.9059\n\nFor more information visit http://phi
 llytodo.com/events/the-2hr-20-open-bar-heat-l
DTSTART:20100122T030000Z
DTEND:20100122T190000Z
CATEGORIES:bar, event
LOCATION:HEAT
WEBSITE:
URL:
CONTACT:610.220.9059
ORGANIZER;CN="Josh Newy":http://phillytodo.com/profile/JoshNewy
ATTACH;FMTTYPE="image/jpeg":http://storage.ning.com/topology/rest/1.0/
 file/get/3054943271?profile=original
ATTENDEE;ROLE=REQ-PARTICIPANT;PARTSTAT=ACCEPTED;RSVP=TRUE;CN="Josh New
 y":http://phillytodo.com/profile/JoshNewy
END:VEVENT
END:VCALENDAR
