BEGIN:VCALENDAR
PRODID:NingEventWidget-v1
VERSION:2.0
METHOD:PUBLISH
BEGIN:VEVENT
UID:4320450:Event:171617
DTSTAMP:20260425T100402Z
SUMMARY:The 25th Annual Putnam County Spelling Bee
DESCRIPTION:Grab a D-I-C-T-I-O-N-A-R-Y and welcome to Spelling Bee!  
 This heartfelt Tony-Award winning musical follows a group of wonderful
 ly unique and impassioned adolescents as they compete for the bee cham
 pionship. Featuring a thrilling score by William Finn, The 25th Annu
 al Putnam County Spelling Bee is a joyful night of comedy and quirk t
 hat celebrates the pursuit of victory and the gift of being true to on
 eself. \n\nFor more information visit http://phillytodo.com/events/th
 e-25th-annual-putnam-county-spelling-bee
DTSTART:20230525T230000Z
DTEND:20230625T203000Z
CATEGORIES:theatre
LOCATION:Arden Theatre Company
WEBSITE:https://ardentheatre.org/production/spelling-bee/
URL:https://ardentheatre.org/production/spelling-bee/
CONTACT:215.922.1122
ORGANIZER;CN="Arden Theatre Company":http://phillytodo.com/profile/Ard
 enTheatreCompany
ATTACH;FMTTYPE="image/jpeg":https://storage.ning.com/topology/rest/1.0
 /file/get/10921152100?profile=original
ATTENDEE;ROLE=REQ-PARTICIPANT;PARTSTAT=ACCEPTED;RSVP=TRUE;CN="Arden Th
 eatre Company":http://phillytodo.com/profile/ArdenTheatreCompany
END:VEVENT
END:VCALENDAR
