BEGIN:VCALENDAR
PRODID:NingEventWidget-v1
VERSION:2.0
METHOD:PUBLISH
BEGIN:VEVENT
UID:4320450:Event:49028
DTSTAMP:20260425T112702Z
SUMMARY:The 20th Annual Fur Ball
DESCRIPTION:The Morris Animal Refuge presents our 20th annual Fur Ball
  fundraising gala, 20,000 Leagues Under the Sea. This April 1st, dive
  into a good time at the Independence Seaport Museum where you can exp
 lore the treasures of the deep – including an open bar, delicious fo
 od, puppies, and more – while supporting America's First Animal Shel
 ter and helping homeless pets. For details and tickets, visit PhillyFu
 rBall.com\n\nABOUT THE MORRIS ANIMAL REFUGE\nFounded in 1874, the Morr
 is Animal Refuge is America’s First Animal Shelter.  We are commit
 ted to adoption, education and high-quality care, and as an open-admis
 sion shelter, we have never turned an animal away. For more informatio
 n, please call (215)735-9570 or visit www.morrisanimalrefuge.org.\n
 \nFor more information visit http://phillytodo.com/events/the-20th-ann
 ual-fur-ball
DTSTART:20170402T000000Z
DTEND:20170402T040000Z
CATEGORIES:gala, fundraiser, open, bar, dj, dancing
LOCATION:Independence Seaport Museum
WEBSITE:http://www.phillyfurball.com/
URL:http://www.phillyfurball.com/
CONTACT:215-735-9570
ORGANIZER;CN="The Morris Animal Refuge":http://phillytodo.com/profile/
 TheMorrisAnimalRefuge
ATTACH;FMTTYPE="image/jpeg":http://storage.ning.com/topology/rest/1.0/
 file/get/3055002074?profile=original
ATTENDEE;ROLE=REQ-PARTICIPANT;PARTSTAT=ACCEPTED;RSVP=TRUE;CN="The Morr
 is Animal Refuge":http://phillytodo.com/profile/TheMorrisAnimalRefuge
END:VEVENT
END:VCALENDAR
