BEGIN:VCALENDAR
PRODID:NingEventWidget-v1
VERSION:2.0
METHOD:PUBLISH
BEGIN:VEVENT
UID:4320450:Event:35692
DTSTAMP:20260425T112429Z
SUMMARY:The 2014 Oscars Improv Jam!
DESCRIPTION:The Oscars Improv Jam is a night of movie themed improv ga
 mes such as \"Oscar winning moment\" and \"Film and Theater styles\" a
 nd more! All games run on audience participation, so don't be shy. Get
  up and play!   In addition to the improv games there will be film pa
 rodies created by members of the Philly comedy community, trivia with 
 amazing prizes and more!  The 4th Annual Oscars Improv Jam will once a
 gain be hosted by Mike Marbach and Kristen Schier.\n\nFor more informa
 tion visit http://phillytodo.com/events/the-2014-oscars-improv-jam
DTSTART:20140302T043000Z
DTEND:20140302T060000Z
CATEGORIES:comedy, improv, theater, live, performance
LOCATION:Philly Improv Theater (PHIT)
WEBSITE:
URL:
CONTACT:267-233-1556
ORGANIZER;CN="Philly Improv Theater":http://phillytodo.com/profile/Mik
 eMarbach
ATTACH;FMTTYPE="image/jpeg":http://storage.ning.com/topology/rest/1.0/
 file/get/3054973516?profile=original
ATTENDEE;ROLE=REQ-PARTICIPANT;PARTSTAT=ACCEPTED;RSVP=TRUE;CN="Philly I
 mprov Theater":http://phillytodo.com/profile/MikeMarbach
END:VEVENT
END:VCALENDAR
