BEGIN:VCALENDAR
PRODID:NingEventWidget-v1
VERSION:2.0
METHOD:PUBLISH
BEGIN:VEVENT
UID:4320450:Event:2219
DTSTAMP:20260425T142545Z
SUMMARY:The 11th PhillyFIT BASH
DESCRIPTION:Everything Health and Fitness you can think of! 80 vendors
 , massive \"party-like\" atmosphere for anyone and everyone wanting to
  learn whats \"out there\" in the world of feeling good, looking good,
  and getting FIT! There is a 3 hour workout a thon taking place too, a
 long with the expo, so you can try all types of workouts and see what 
 suits you! Tons of food, healthy cooking lessons, kids games, beauty m
 ake-overs, check it out on phillyfit.com or email jami@phillyfitmagazi
 ne for more details. Vendors welcome. Cost to attend only $5.00 per pe
 rson. Cost to be a vendor only $325.00 per booth.\n\nFor more informat
 ion visit http://phillytodo.com/events/the-11th-phillyfit-bash
DTSTART:20101114T160000Z
DTEND:20101114T200000Z
CATEGORIES:health, and, fitness, bash
LOCATION:Phila Sports Club, one highpoint drive, chalfont, pa
WEBSITE:http://phillyfit.com
URL:http://phillyfit.com
CONTACT:
ORGANIZER;CN="PhillyFIT Magazine":http://phillytodo.com/profile/JamiAp
 penzeller
ATTACH;FMTTYPE="image/jpeg":http://storage.ning.com/topology/rest/1.0/
 file/get/2966615104?profile=original
ATTENDEE;ROLE=REQ-PARTICIPANT;PARTSTAT=ACCEPTED;RSVP=TRUE;CN="PhillyFI
 T Magazine":http://phillytodo.com/profile/JamiAppenzeller
END:VEVENT
END:VCALENDAR
