BEGIN:VCALENDAR
PRODID:NingEventWidget-v1
VERSION:2.0
METHOD:PUBLISH
BEGIN:VEVENT
UID:4320450:Event:42860
DTSTAMP:20260425T125815Z
SUMMARY:Thanksgroovin' Eve Bar Crawl
DESCRIPTION:Thanksgiving EveÂ Bar CrawlÂ in Philadlephia -Â Philly's R
 eunion Spot 2015!Â \nJoin us as we tour Philly's top best bar & club l
 ocations throughout Center City.There is no better place to be on Than
 ksgiving Eve!FULL DETAILS:Â Â www.ThanksgroovinEve.com\nThe Thanksgroo
 vin' Eve Crawl will give you access into 25 locations, guaranteed no c
 over charge all night at all locations (see below) plus greatÂ $3 Bud 
 & Bud Light, $4 Victory Brewing Beers & Jager Mixed Drinks, $5 Jager s
 hotÂ drink specials from 8pm to 12am with your special wristband. Gobb
 le-Off contests at select locations.Â We have something for everyone.Â
  Just look at all the participating bars and restaurants - they are TH
 E places to be in the city! So, gather your friends you have not seen 
 in a while and MEET at Thanksgroovin' Eve!\nTo order tickets, click on
  the following link:Â http://www.upcomingevents.com/e/thanksgroovin-ev
 e-bar-crawl-24518/?ref=ptodo\n\nFor more information visit http://phil
 lytodo.com/events/thanksgroovin-eve-bar-crawl
DTSTART:20151126T010000Z
DTEND:20151126T070000Z
CATEGORIES:thanksgiving
LOCATION:Multiple Locations
WEBSITE:
URL:
CONTACT:N/A
ORGANIZER;CN="UpcomingEvents.com":http://phillytodo.com/profile/Upcomi
 ngEventscom
ATTACH;FMTTYPE="image/jpeg":http://storage.ning.com/topology/rest/1.0/
 file/get/3054990163?profile=original
ATTENDEE;ROLE=REQ-PARTICIPANT;PARTSTAT=ACCEPTED;RSVP=TRUE;CN="Upcoming
 Events.com":http://phillytodo.com/profile/UpcomingEventscom
END:VEVENT
END:VCALENDAR
