BEGIN:VCALENDAR
PRODID:NingEventWidget-v1
VERSION:2.0
METHOD:PUBLISH
BEGIN:VEVENT
UID:4320450:Event:48306
DTSTAMP:20260425T130714Z
SUMMARY:Thanksgiving Brunch at Keating’s Rope & Anchor, Bar + Kitche
 n
DESCRIPTION:Celebrate and give thanks with Keating’s Rope & Anchor f
 or a Thanksgiving brunch featuring a buffet of your favorite eats, a w
 aterfront view and, of course, turkey with all the trimmings. Reserve 
 a seat at the table for your family by calling 215-521-6509.\n\nFor mo
 re information visit http://phillytodo.com/events/thanksgiving-brunch-
 at-keating-s-rope-anchor-bar-kitchen
DTSTART:20161124T170000Z
DTEND:20161124T210000Z
CATEGORIES:thanksgiving, brunch
LOCATION:Keating’s Rope & Anchor, Bar + Kitchen
WEBSITE:http://RopeandAnchorKitchen.com
URL:http://RopeandAnchorKitchen.com
CONTACT:(215) 521-6509
ORGANIZER:Rope & Anchor, Bar + Kitchen
ATTACH;FMTTYPE="image/jpeg":
ATTENDEE;ROLE=REQ-PARTICIPANT;PARTSTAT=ACCEPTED;RSVP=TRUE;CN="Bryan Ch
 an":http://phillytodo.com/profile/BryanChan
END:VEVENT
END:VCALENDAR
