BEGIN:VCALENDAR
PRODID:NingEventWidget-v1
VERSION:2.0
METHOD:PUBLISH
BEGIN:VEVENT
UID:4320450:Event:60318
DTSTAMP:20260425T113133Z
SUMMARY:Ten Years: Teen Photo Alumni Exhibition
DESCRIPTION:Philadelphia Photo Arts Center celebrates its 10-year anni
 versary by featuring creative works by students who participated in th
 e Teen Photo program over the last decade. Alumni were invited to subm
 it their work for the Ten Years: Teen Photo Alumni Exhibition and shar
 e how creativity has manifested in their lives and through their photo
 graphy.\nTeen Photo is a free afterschool program for Philadelphia pub
 lic high school students. From September to May, students are provided
  with full access to PPAC’s equipment, materials, and teaching staff
 , as well as a DSLR camera to take home for the duration of the progra
 m.\n\nFor more information visit http://phillytodo.com/events/ten-year
 s-teen-photo-alumni-exhibition
DTSTART:20200312T140000Z
DTEND:20200502T210000Z
CATEGORIES:art, exhibition
LOCATION:Philadelphia Photo Arts Center
WEBSITE:https://www.philaphotoarts.org/event/ten-years/
URL:https://www.philaphotoarts.org/event/ten-years/
CONTACT:215-232-5678
ORGANIZER;CN="Bryan Chan":http://phillytodo.com/profile/BryanChan
ATTACH;FMTTYPE="image/jpeg":
ATTENDEE;ROLE=REQ-PARTICIPANT;PARTSTAT=ACCEPTED;RSVP=TRUE;CN="Bryan Ch
 an":http://phillytodo.com/profile/BryanChan
END:VEVENT
END:VCALENDAR
