BEGIN:VCALENDAR
PRODID:NingEventWidget-v1
VERSION:2.0
METHOD:PUBLISH
BEGIN:VEVENT
UID:4320450:Event:42890
DTSTAMP:20260425T160924Z
SUMMARY:Tempesta di Mare Presents Christmas in Germany
DESCRIPTION:The Philadelphia Baroque Orchestra & Chamber Players prese
 nt advent music for the holiday.\n\nFor more information visit http://
 phillytodo.com/events/tempesta-di-mare-presents-christmas-in-germany
DTSTART:20151220T010000Z
DTEND:20151220T020000Z
CATEGORIES:holiday, event
LOCATION:Presbyterian Church of Chestnut Hill
WEBSITE:http://www.chestnuthillpa.com
URL:http://www.chestnuthillpa.com
CONTACT:215-247-6696
ORGANIZER:Chestnut Hill Business Association
ATTACH;FMTTYPE="image/jpeg":http://storage.ning.com/topology/rest/1.0/
 file/get/3054990252?profile=original
ATTENDEE;ROLE=REQ-PARTICIPANT;PARTSTAT=ACCEPTED;RSVP=TRUE;CN="Bryan Ch
 an":http://phillytodo.com/profile/BryanChan
END:VEVENT
END:VCALENDAR
