BEGIN:VCALENDAR
PRODID:NingEventWidget-v1
VERSION:2.0
METHOD:PUBLISH
BEGIN:VEVENT
UID:4320450:Event:53611
DTSTAMP:20260425T125916Z
SUMMARY:Tell Me A Story: Wassailing
DESCRIPTION:\nAn evening of true stories on the theme “Wassailing
  hosted by Hillary Rea. \nFeaturing storytellers: Mike Fenn, Kristin
  Finger, Nisse Greenberg, David Hutchison, Alejandro Morales, Hannah T
 rav\nDoors at 7pm, Stories at 7:30pm\n$5 (cash or credit) at the door\
 nSeating is limited and first come first serve. \n\nFor more informat
 ion visit http://phillytodo.com/events/tell-me-a-story-wassailing
DTSTART:20171116T000000Z
DTEND:20171116T020000Z
CATEGORIES:storytelling, comedy, show, neighborhood, event
LOCATION:Shot Tower Coffee
WEBSITE:https://goo.gl/maps/D8EsqWJ63g62
URL:https://goo.gl/maps/D8EsqWJ63g62
CONTACT:267-797-8627
ORGANIZER:Tell Me A Story
ATTACH;FMTTYPE="image/jpeg":http://storage.ning.com/topology/rest/1.0/
 file/get/3055009718?profile=original
ATTENDEE;ROLE=REQ-PARTICIPANT;PARTSTAT=ACCEPTED;RSVP=TRUE;CN="Hillary 
 Rea":http://phillytodo.com/profile/HillaryRea
END:VEVENT
END:VCALENDAR
