BEGIN:VCALENDAR
PRODID:NingEventWidget-v1
VERSION:2.0
METHOD:PUBLISH
BEGIN:VEVENT
UID:4320450:Event:59615
DTSTAMP:20260425T100401Z
SUMMARY:Tell Me A Story: Unspoken
DESCRIPTION:A night of true stories on the theme Unspoken. Hosted by H
 illary Rea.\nFeaturing: Mike Fenn, Sabina Leybold, Kara Sankus, Clay S
 ublett, Maria Syed, Christine Walden\nWednesday, November 20, 2019\nat
 \nShot Tower Coffee (542 Christian Street)\nDoors at 7pm, Stories at 7
 :30pm\n$10 (cash or credit) at the door\n\nFor more information visit 
 http://phillytodo.com/events/tell-me-a-story-unspoken
DTSTART:20191121T000000Z
DTEND:20191121T020000Z
CATEGORIES:live, storytelling, show
LOCATION:Shot Tower Coffee
WEBSITE:https://goo.gl/maps/D8EsqWJ63g62
URL:https://goo.gl/maps/D8EsqWJ63g62
CONTACT:
ORGANIZER:Tell Me A Story
ATTACH;FMTTYPE="image/jpeg":https://storage.ning.com/topology/rest/1.0
 /file/get/3702168391?profile=original
ATTENDEE;ROLE=REQ-PARTICIPANT;PARTSTAT=ACCEPTED;RSVP=TRUE;CN="Hillary 
 Rea":http://phillytodo.com/profile/HillaryRea
END:VEVENT
END:VCALENDAR
