BEGIN:VCALENDAR
PRODID:NingEventWidget-v1
VERSION:2.0
METHOD:PUBLISH
BEGIN:VEVENT
UID:4320450:Event:55012
DTSTAMP:20260425T130917Z
SUMMARY:Tell Me A Story: Unpopular Opinions
DESCRIPTION:An evening of true stories on the theme “Unpopular Opin
 ions” hosted by Hillary Rea. \nFeaturing storytellers: Steven Davis
 on, Erin Dohony, Andy Futuro, Yvonne Jones, Tanaquil Marquez, Jonatha
 n Martin, Mark Págan, and Emily Epstein White.\n \nDoors at 7pm, St
 ories at 7:30pm\n \n$10 (cash or credit) at the door\n \nSeating is 
 limited and first come first serve. \n\nFor more information visit ht
 tp://phillytodo.com/events/tell-me-a-story-unpopular-opinions
DTSTART:20180321T230000Z
DTEND:20180322T010000Z
CATEGORIES:storytelling, show, comedy
LOCATION:Shot Tower Coffee
WEBSITE:https://goo.gl/maps/D8EsqWJ63g62
URL:https://goo.gl/maps/D8EsqWJ63g62
CONTACT:267-797-8627
ORGANIZER:Tell Me A Story
ATTACH;FMTTYPE="image/jpeg":http://storage.ning.com/topology/rest/1.0/
 file/get/3055011803?profile=original
ATTENDEE;ROLE=REQ-PARTICIPANT;PARTSTAT=ACCEPTED;RSVP=TRUE;CN="Hillary 
 Rea":http://phillytodo.com/profile/HillaryRea
END:VEVENT
END:VCALENDAR
