BEGIN:VCALENDAR
PRODID:NingEventWidget-v1
VERSION:2.0
METHOD:PUBLISH
BEGIN:VEVENT
UID:4320450:Event:56264
DTSTAMP:20260425T130922Z
SUMMARY:Tell Me A Story: The Early Years
DESCRIPTION:An evening of true stories on the theme the early years ho
 sted by Hillary Rea.\n\nFeaturing storytellers: Kathleen Ackert, Jos D
 uncan, Bill Green, Kyle Harris, Donald Harrison, Jillian Markowitz and
  Christine Ramsey\n\nDoors at 7pm, Stories at 7:30pm\n\n$10 (cash or c
 redit) at the door\n\nSeating is limited and first come first serve.\n
 \nFor more information visit http://phillytodo.com/events/tell-me-a-st
 ory-the-early-years
DTSTART:20180919T230000Z
DTEND:20180920T010000Z
CATEGORIES:comedy, community, story
LOCATION:Shot Tower Coffee
WEBSITE:https://goo.gl/maps/D8EsqWJ63g62
URL:https://goo.gl/maps/D8EsqWJ63g62
CONTACT:2677978627
ORGANIZER;CN="Hillary Rea":http://phillytodo.com/profile/HillaryRea
ATTACH;FMTTYPE="image/jpeg":http://storage.ning.com/topology/rest/1.0/
 file/get/3055015832?profile=original
ATTENDEE;ROLE=REQ-PARTICIPANT;PARTSTAT=ACCEPTED;RSVP=TRUE;CN="Hillary 
 Rea":http://phillytodo.com/profile/HillaryRea
END:VEVENT
END:VCALENDAR
