BEGIN:VCALENDAR
PRODID:NingEventWidget-v1
VERSION:2.0
METHOD:PUBLISH
BEGIN:VEVENT
UID:4320450:Event:57425
DTSTAMP:20260425T130925Z
SUMMARY:Tell Me A Story: Sweet &amp; Sour
DESCRIPTION:A night of true stories on the theme Sweet & Sour. Hosted 
 by Hillary Rea.\nFeaturing: Cecily Alexandria, Ari Fishbein, Kitty Hai
 ley, Geoff Jackson, Meredith McDonald, Menia Simpson\nWednesday, March
  20, 2019\nat\nShot Tower Coffee (542 Christian Street)\nDoors at 7pm,
  Stories at 7:30pm\n$10 (cash or credit) at the door\n\nFor more infor
 mation visit http://phillytodo.com/events/tell-me-a-story-sweet-amp-so
 ur
DTSTART:20190320T230000Z
DTEND:20190321T010000Z
CATEGORIES:storytelling, show
LOCATION:Shot Tower Coffee
WEBSITE:https://goo.gl/maps/D8EsqWJ63g62
URL:https://goo.gl/maps/D8EsqWJ63g62
CONTACT:267-797-8627
ORGANIZER:Tell Me A Story
ATTACH;FMTTYPE="image/jpeg":https://storage.ning.com/topology/rest/1.0
 /file/get/1358305011?profile=original
ATTENDEE;ROLE=REQ-PARTICIPANT;PARTSTAT=ACCEPTED;RSVP=TRUE;CN="Hillary 
 Rea":http://phillytodo.com/profile/HillaryRea
END:VEVENT
END:VCALENDAR
