BEGIN:VCALENDAR
PRODID:NingEventWidget-v1
VERSION:2.0
METHOD:PUBLISH
BEGIN:VEVENT
UID:4320450:Event:49803
DTSTAMP:20260425T132635Z
SUMMARY:Tell Me A Story: Six Degrees
DESCRIPTION:\nAn evening of true stories on the theme “Six Degrees
  hosted by Hillary Rea. \nFeaturing storytellers: Kathleen Ackert,
  Amanda Feifer O’Brien, Julie Hancher, Donald Harrison, Zia Hilt
 ey, Ron Metellus, R. Eric Thomas\nDoors at 7pm, Stories at 7:30pm\n$
 5 (cash or credit) at the door\nSeating is limited and first come firs
 t serve. \n\n\nFor more information visit http://phillytodo.com/event
 s/tell-me-a-story-six-degrees
DTSTART:20170517T230000Z
DTEND:20170518T010000Z
CATEGORIES:storytelling, live, event, comedy
LOCATION:Shot Tower Coffee
WEBSITE:https://goo.gl/maps/F7sFxixcMnQ2
URL:https://goo.gl/maps/F7sFxixcMnQ2
CONTACT:267-797-8627
ORGANIZER:Tell Me A Story
ATTACH;FMTTYPE="image/jpeg":http://storage.ning.com/topology/rest/1.0/
 file/get/3055002941?profile=original
ATTENDEE;ROLE=REQ-PARTICIPANT;PARTSTAT=ACCEPTED;RSVP=TRUE;CN="Hillary 
 Rea":http://phillytodo.com/profile/HillaryRea
END:VEVENT
END:VCALENDAR
