BEGIN:VCALENDAR
PRODID:NingEventWidget-v1
VERSION:2.0
METHOD:PUBLISH
BEGIN:VEVENT
UID:4320450:Event:48304
DTSTAMP:20260425T130946Z
SUMMARY:Tell Me A Story: Season's Greetings
DESCRIPTION:\nAn evening of true and funny stories on the theme “Se
 ason’s Greetings” hosted by Hillary Rea. \n \nFeaturing storytel
 lers Jim Breslin, Victoria DePaul, Valerie DiMambro, Vashti Dubois, Te
 rry Heyman, Geoff Jackson, and John Kensil\n \nDoors at 7pm, Stories 
 at 7:30pm\n$5 (cash or credit) at the door\nSeating is limited and fir
 st come first serve. \n\nFor more information visit http://phillytodo
 .com/events/tell-me-a-story-season-s-greetings
DTSTART:20161117T000000Z
DTEND:20161117T020000Z
CATEGORIES:storytelling, show
LOCATION:Shot Tower Coffee
WEBSITE:https://goo.gl/maps/tX7Tz7Lagco
URL:https://goo.gl/maps/tX7Tz7Lagco
CONTACT:267-797-8627
ORGANIZER:Tell Me A Story
ATTACH;FMTTYPE="image/jpeg":http://storage.ning.com/topology/rest/1.0/
 file/get/3055001381?profile=original
ATTENDEE;ROLE=REQ-PARTICIPANT;PARTSTAT=ACCEPTED;RSVP=TRUE;CN="Hillary 
 Rea":http://phillytodo.com/profile/HillaryRea
END:VEVENT
END:VCALENDAR
