BEGIN:VCALENDAR
PRODID:NingEventWidget-v1
VERSION:2.0
METHOD:PUBLISH
BEGIN:VEVENT
UID:4320450:Event:54605
DTSTAMP:20260425T132727Z
SUMMARY:Tell Me A Story: Renewal
DESCRIPTION:An evening of true stories on the theme “Renewal” hos
 ted by Hillary Rea. \nFeaturing storytellers: Valerie DiMambro, Geoff
  Jackson, Rob Lawless, Michael Livingston, Abby Mosconi, Pax Tandon, A
 lyssa Truszkowski\nDoors at 7pm, Stories at 7:30pm\n$10 (cash or credi
 t) at the door\nSeating is limited and first come first serve. \n\nFo
 r more information visit http://phillytodo.com/events/tell-me-a-story-
 renewal
DTSTART:20180118T000000Z
DTEND:20180118T020000Z
CATEGORIES:storytelling, live, show
LOCATION:Shot Tower Coffee
WEBSITE:https://goo.gl/maps/D8EsqWJ63g62
URL:https://goo.gl/maps/D8EsqWJ63g62
CONTACT:267-797-8627
ORGANIZER:Tell Me A Story
ATTACH;FMTTYPE="image/jpeg":http://storage.ning.com/topology/rest/1.0/
 file/get/3055011243?profile=original
ATTENDEE;ROLE=REQ-PARTICIPANT;PARTSTAT=ACCEPTED;RSVP=TRUE;CN="Hillary 
 Rea":http://phillytodo.com/profile/HillaryRea
END:VEVENT
END:VCALENDAR
