BEGIN:VCALENDAR
PRODID:NingEventWidget-v1
VERSION:2.0
METHOD:PUBLISH
BEGIN:VEVENT
UID:4320450:Event:44979
DTSTAMP:20260425T144415Z
SUMMARY:Tell Me A Story: Offline
DESCRIPTION: An evening of storytelling hosted by Hillary Rea. Featuri
 ng Steve Clark, Kate Fruhman, T.J. Hurley, Katie Samson, Randie Welles
 , Christopher Wink\n\nFor more information visit http://phillytodo.com
 /events/tell-me-a-story-offline
DTSTART:20160316T230000Z
DTEND:20160317T010000Z
CATEGORIES:live, storytelling
LOCATION:Shot Tower Coffee
WEBSITE:http://shottowercoffee.com
URL:http://shottowercoffee.com
CONTACT:267-797-8627
ORGANIZER:Tell Me A Story
ATTACH;FMTTYPE="image/jpeg":http://storage.ning.com/topology/rest/1.0/
 file/get/3054993370?profile=original
ATTENDEE;ROLE=REQ-PARTICIPANT;PARTSTAT=ACCEPTED;RSVP=TRUE;CN="Hillary 
 Rea":http://phillytodo.com/profile/HillaryRea
END:VEVENT
END:VCALENDAR
