BEGIN:VCALENDAR
PRODID:NingEventWidget-v1
VERSION:2.0
METHOD:PUBLISH
BEGIN:VEVENT
UID:4320450:Event:49519
DTSTAMP:20260425T133038Z
SUMMARY:Tell Me A Story: Near and Far
DESCRIPTION:\nAn evening of true and funny stories on the theme “Ne
 ar and Far” hosted by Hillary Rea. \n \nFeaturing storytellers: Jo
 s Duncan, Hasreet Gill, Will Grogan, Wendy Hammond, Lia Rosalsky, Dave
  Terruso, Cecilia Watson\nDoors at 7pm, Stories at 7:30pm\n$5 (cash or
  credit) at the door\nSeating is limited and first come first serve. 
 \nRSVP and tell your friends on Facebook.\n\nFor more information visi
 t http://phillytodo.com/events/tell-me-a-story-near-and-far
DTSTART:20170322T230000Z
DTEND:20170323T010000Z
CATEGORIES:storytelling, show
LOCATION:Shot Tower Coffee
WEBSITE:https://goo.gl/maps/LTEDsr2tCkF2
URL:https://goo.gl/maps/LTEDsr2tCkF2
CONTACT:267-797-8627
ORGANIZER:Tell Me A Story
ATTACH;FMTTYPE="image/jpeg":http://storage.ning.com/topology/rest/1.0/
 file/get/3055003569?profile=original
ATTENDEE;ROLE=REQ-PARTICIPANT;PARTSTAT=ACCEPTED;RSVP=TRUE;CN="Hillary 
 Rea":http://phillytodo.com/profile/HillaryRea
END:VEVENT
END:VCALENDAR
