BEGIN:VCALENDAR
PRODID:NingEventWidget-v1
VERSION:2.0
METHOD:PUBLISH
BEGIN:VEVENT
UID:4320450:Event:59018
DTSTAMP:20260425T112835Z
SUMMARY:Tell Me A Story: Kismet
DESCRIPTION:A night of true stories on the theme Kismet. Hosted by Hil
 lary Rea.\nFeaturing: Keenan Corrigan, Eileen Echikson, Zak Krone, Eri
 n McGregor, Danton Spina and Randie Welles\nWednesday, October 16th, 2
 019\nat\nRadioKismet (448 N. 10th, First Floor, Philadelphia, PA 19123
 \nDoors at 7pm, Stories at 7:30pm\n$10 in advance and at the door\nTic
 ket link: https://www.eventbrite.com/e/tell-me-a-story-kismet-tickets-
 74358314721\n\nFor more information visit http://phillytodo.com/events
 /tell-me-a-story-kismet
DTSTART:20191016T230000Z
DTEND:20191017T010000Z
CATEGORIES:storytelling, show
LOCATION:RadioKismet
WEBSITE:https://goo.gl/maps/GYj2w38Mmd85D8o7A
URL:https://goo.gl/maps/GYj2w38Mmd85D8o7A
CONTACT:267-797-8627
ORGANIZER:Tell Me A Story
ATTACH;FMTTYPE="image/jpeg":https://storage.ning.com/topology/rest/1.0
 /file/get/3647266414?profile=original
ATTENDEE;ROLE=REQ-PARTICIPANT;PARTSTAT=ACCEPTED;RSVP=TRUE;CN="Hillary 
 Rea":http://phillytodo.com/profile/HillaryRea
END:VEVENT
END:VCALENDAR
