BEGIN:VCALENDAR
PRODID:NingEventWidget-v1
VERSION:2.0
METHOD:PUBLISH
BEGIN:VEVENT
UID:4320450:Event:42839
DTSTAMP:20260425T150739Z
SUMMARY:Tell Me A Story: Home for the Holidays
DESCRIPTION: An evening of storytelling hosted by Hillary Rea. Featuri
 ng Kate Banford, Mike Fenn, Jaime Fountaine, Anna Goldfarb, Michael Ke
 lly, Cecilia Watson, and Marjorie Winther\n\nFor more information visi
 t http://phillytodo.com/events/tell-me-a-story-home-for-the-holidays
DTSTART:20151119T000000Z
DTEND:20151119T020000Z
CATEGORIES:storytelling, comedy
LOCATION:Shot Tower Coffee
WEBSITE:http://shottowercoffee.com
URL:http://shottowercoffee.com
CONTACT:267-797-8627
ORGANIZER:Tell Me A Story
ATTACH;FMTTYPE="image/jpeg":http://storage.ning.com/topology/rest/1.0/
 file/get/3054990119?profile=original
ATTENDEE;ROLE=REQ-PARTICIPANT;PARTSTAT=ACCEPTED;RSVP=TRUE;CN="Hillary 
 Rea":http://phillytodo.com/profile/HillaryRea
END:VEVENT
END:VCALENDAR
