BEGIN:VCALENDAR
PRODID:NingEventWidget-v1
VERSION:2.0
METHOD:PUBLISH
BEGIN:VEVENT
UID:4320450:Event:58616
DTSTAMP:20260425T113124Z
SUMMARY:Tell Me A Story: Heroes &amp; Villains
DESCRIPTION:A night of true stories on the theme Heroes & Villains. Ho
 sted by Hillary Rea.\nFeaturing: Nicola Black, Gregory Gutierrez, Jame
 s Knight, Lauren Leonard, Betty Mattei, and Ijanae Savage\nWednesday, 
 July 17th, 2019\nat\nShot Tower Coffee (542 Christian Street)\nDoors a
 t 7pm, Stories at 7:30pm\n$10 (cash or credit) at the door\n\nFor more
  information visit http://phillytodo.com/events/tell-me-a-story-heroes
 -amp-villains
DTSTART:20190717T230000Z
DTEND:20190718T010000Z
CATEGORIES:storytelling, comedy
LOCATION:Shot Tower Coffee
WEBSITE:https://goo.gl/maps/D8EsqWJ63g62
URL:https://goo.gl/maps/D8EsqWJ63g62
CONTACT:267-797-8627
ORGANIZER;CN="Hillary Rea":http://phillytodo.com/profile/HillaryRea
ATTACH;FMTTYPE="image/jpeg":https://storage.ning.com/topology/rest/1.0
 /file/get/3188289509?profile=original
ATTENDEE;ROLE=REQ-PARTICIPANT;PARTSTAT=ACCEPTED;RSVP=TRUE;CN="Hillary 
 Rea":http://phillytodo.com/profile/HillaryRea
END:VEVENT
END:VCALENDAR
