BEGIN:VCALENDAR
PRODID:NingEventWidget-v1
VERSION:2.0
METHOD:PUBLISH
BEGIN:VEVENT
UID:4320450:Event:38668
DTSTAMP:20260425T125817Z
SUMMARY:Tell Me A Story: Guts
DESCRIPTION:Tell Me A Story, Philadelphia’s only curated storytellin
 g show, heads to the Mütter Museum for a special afternoon storytelli
 ng program. Join host Hillary Rea for an afternoon of secrets spill
 ed, memories gashed, and contagious laughter. Several comedians (and p
 erhaps a physician or two), reveal true, comedic stories based on the
  theme \"Guts.\"  Tickets for this special Sunday afternoon event also
  include admission to the Mütter Museum. The show begins at 3pm, so t
 icket holders should plan to arrive earlier to get the full museum exp
 erience.   The show features seven storytellers, plus host Hillary Re
 a. Included in the line-up is the Mütter’s librarian, a Drexel prof
 essor, a local physician and several of Philly’s funniest comedians 
 and performers. \n\nFor advance tickets and more information please v
 isit: http://muttermuseum.org/events/tell-me-a-story-guts-with-hillar
 y-rea/\n\nFor more information visit http://phillytodo.com/events/tell
 -me-a-story-guts
DTSTART:20141026T190000Z
DTEND:20141026T210000Z
CATEGORIES:storytelling, event
LOCATION:Mütter Museum
WEBSITE:http://muttermuseum.org/
URL:http://muttermuseum.org/
CONTACT:
ORGANIZER:Tell Me A Story
ATTACH;FMTTYPE="image/jpeg":http://storage.ning.com/topology/rest/1.0/
 file/get/3054980513?profile=original
ATTENDEE;ROLE=REQ-PARTICIPANT;PARTSTAT=ACCEPTED;RSVP=TRUE;CN="Hillary 
 Rea":http://phillytodo.com/profile/HillaryRea
END:VEVENT
END:VCALENDAR
