BEGIN:VCALENDAR
PRODID:NingEventWidget-v1
VERSION:2.0
METHOD:PUBLISH
BEGIN:VEVENT
UID:4320450:Event:40887
DTSTAMP:20260425T162124Z
SUMMARY:Tell Me A Story: Good Luck
DESCRIPTION:An evening of true funny stories hosted by Hillary Rea.\nF
 eaturing Carolyn Busa, Jon DelCollo, Zia Hiltey, Steven Rascon, Eric S
 mith, Mary Webster, Michael Yudell.\n\nDoors at 7pm, Stories at 7:30pm
 \n$5 cash or credit at the door\n\nFor more information visit http://p
 hillytodo.com/events/tell-me-a-story-good-luck
DTSTART:20150520T230000Z
DTEND:20150521T010000Z
CATEGORIES:storytelling, show
LOCATION:Shot Tower Coffee
WEBSITE:http://shottowercoffee.com
URL:http://shottowercoffee.com
CONTACT:
ORGANIZER:Tell Me A Story
ATTACH;FMTTYPE="image/jpeg":http://storage.ning.com/topology/rest/1.0/
 file/get/3054988208?profile=original
ATTENDEE;ROLE=REQ-PARTICIPANT;PARTSTAT=ACCEPTED;RSVP=TRUE;CN="Hillary 
 Rea":http://phillytodo.com/profile/HillaryRea
END:VEVENT
END:VCALENDAR
