BEGIN:VCALENDAR
PRODID:NingEventWidget-v1
VERSION:2.0
METHOD:PUBLISH
BEGIN:VEVENT
UID:4320450:Event:60053
DTSTAMP:20260425T112754Z
SUMMARY:Tell Me A Story: Good as Hell
DESCRIPTION:A night of true stories on the theme Good as Hell Hosted b
 y Hillary Rea.\nFeaturing: Geoff Jackson, Paige Kenley, Tabatha Kinyon
 , Christine Olivas, Andrew Shearer, Randie Welles\nWednesday, January 
 15, 2020\nat\nShot Tower Coffee (542 Christian Street)\nDoors at 7pm, 
 Stories at 7:30pm\n$12 (cash or credit) at the door\n\nFor more inform
 ation visit http://phillytodo.com/events/tell-me-a-story-good-as-hell
DTSTART:20200116T000000Z
DTEND:20200116T020000Z
CATEGORIES:storytelling, show
LOCATION:Shot Tower Coffee
WEBSITE:https://goo.gl/maps/D8EsqWJ63g62
URL:https://goo.gl/maps/D8EsqWJ63g62
CONTACT:
ORGANIZER:Tell Me A Story
ATTACH;FMTTYPE="image/jpeg":https://storage.ning.com/topology/rest/1.0
 /file/get/3800365825?profile=original
ATTENDEE;ROLE=REQ-PARTICIPANT;PARTSTAT=ACCEPTED;RSVP=TRUE;CN="Hillary 
 Rea":http://phillytodo.com/profile/HillaryRea
END:VEVENT
END:VCALENDAR
