BEGIN:VCALENDAR
PRODID:NingEventWidget-v1
VERSION:2.0
METHOD:PUBLISH
BEGIN:VEVENT
UID:4320450:Event:41240
DTSTAMP:20260425T150349Z
SUMMARY:Tell Me A Story: Food
DESCRIPTION:An evening of true, funny stories hosted by Hillary Rea.\n
 \nFeaturing\n\nJared Axelrod\nMike Fenn\nSteve Gravelle\nTerry Heyman\
 nAmanda Feifer O'Brien\nJoe Messina\n\nDoors at 7pm, Stories at 7:30pm
 \n$5 cash or credit at the door\n\nfor more info on Tell Me A Story: h
 ttp://tellmeastory.info\n\nFor more information visit http://phillytod
 o.com/events/tell-me-a-story-food
DTSTART:20150715T230000Z
DTEND:20150716T010000Z
CATEGORIES:storytelling, show
LOCATION:Shot Tower Coffee
WEBSITE:https://www.google.com/maps/place/Shot+Tower+Coffee/@39.937572
 8,-75.1531912,17z/data=!3m1!4b1!4m2!3m1!1s0x89c6c8a01f16f605:0x7219ad6
 850e109fb
URL:https://www.google.com/maps/place/Shot+Tower+Coffee/@39.9375728,-7
 5.1531912,17z/data=!3m1!4b1!4m2!3m1!1s0x89c6c8a01f16f605:0x7219ad6850e
 109fb
CONTACT:
ORGANIZER:Tell Me A Story
ATTACH;FMTTYPE="image/jpeg":http://storage.ning.com/topology/rest/1.0/
 file/get/3054988655?profile=original
ATTENDEE;ROLE=REQ-PARTICIPANT;PARTSTAT=ACCEPTED;RSVP=TRUE;CN="Hillary 
 Rea":http://phillytodo.com/profile/HillaryRea
END:VEVENT
END:VCALENDAR
