BEGIN:VCALENDAR
PRODID:NingEventWidget-v1
VERSION:2.0
METHOD:PUBLISH
BEGIN:VEVENT
UID:4320450:Event:40510
DTSTAMP:20260425T175212Z
SUMMARY:Tell Me A Story: Fight or Flight
DESCRIPTION:An evening of storytelling hosted by Hillary Rea Featurin
 gCecily Chapman Amanda Damron Michael Livingston Alexa MoreschiSam 
 Petrie Ryan Shaner Juliet Hope Wayne Doors at 7pm. Show at 7:30pm.$
 5 cash or credit at the venue.\n\nFor more information visit http://ph
 illytodo.com/events/tell-me-a-story-fight-or-flight
DTSTART:20150318T230000Z
DTEND:20150319T010000Z
CATEGORIES:storytelling, and, comedy
LOCATION:Shot Tower Coffee
WEBSITE:http://shottowercoffee.com
URL:http://shottowercoffee.com
CONTACT:
ORGANIZER:Tell Me A Story
ATTACH;FMTTYPE="image/jpeg":http://storage.ning.com/topology/rest/1.0/
 file/get/3054987361?profile=original
ATTENDEE;ROLE=REQ-PARTICIPANT;PARTSTAT=ACCEPTED;RSVP=TRUE;CN="Hillary 
 Rea":http://phillytodo.com/profile/HillaryRea
END:VEVENT
END:VCALENDAR
