BEGIN:VCALENDAR
PRODID:NingEventWidget-v1
VERSION:2.0
METHOD:PUBLISH
BEGIN:VEVENT
UID:4320450:Event:56408
DTSTAMP:20260425T101833Z
SUMMARY:Tell Me A Story: Family
DESCRIPTION:An evening of true stories on the theme FAMILY hosted by H
 illary Rea.\n\nFeaturing storytellers: Shannon Fahey, Rose Luardo, Chr
 istine Walden, Randie Welles, Amalia Wilson, Yemima, and Adam Zahn\n\n
 Wednesday, November 14th, 2018\nDoors at 7pm, Stories at 7:30pm\n\n$10
  (cash or credit) at the door\n\nSeating is limited and first come fir
 st serve.\n\nFor more information visit http://phillytodo.com/events/t
 ell-me-a-story-family
DTSTART:20181115T000000Z
DTEND:20181115T020000Z
CATEGORIES:storytelling, live, comedy
LOCATION:Shot Tower Coffee
WEBSITE:https://goo.gl/maps/D8EsqWJ63g62
URL:https://goo.gl/maps/D8EsqWJ63g62
CONTACT:267-797-8627
ORGANIZER:Tell Me A Story
ATTACH;FMTTYPE="image/jpeg":http://storage.ning.com/topology/rest/1.0/
 file/get/3055018971?profile=original
ATTENDEE;ROLE=REQ-PARTICIPANT;PARTSTAT=ACCEPTED;RSVP=TRUE;CN="Hillary 
 Rea":http://phillytodo.com/profile/HillaryRea
END:VEVENT
END:VCALENDAR
