BEGIN:VCALENDAR
PRODID:NingEventWidget-v1
VERSION:2.0
METHOD:PUBLISH
BEGIN:VEVENT
UID:4320450:Event:45522
DTSTAMP:20260425T142652Z
SUMMARY:Tell Me A Story: Crushed
DESCRIPTION: Tell Me A Story’s 5th Anniversaryevening of storytellin
 g hosted by Hillary Rea. Featuring Cecily Alexandria, Nathaniel Bates,
  Kitty Hailey, Zia Hiltey, Katonya Mosley, Zeeshan Nayeemuddin, Pete S
 teele, R. Eric Thomas, and Juliet Hope Wayne\n\nFor more information v
 isit http://phillytodo.com/events/tell-me-a-story-crushed
DTSTART:20160518T230000Z
DTEND:20160519T010000Z
CATEGORIES:storytelling, event
LOCATION:Shot Tower Coffee
WEBSITE:https://www.google.com/maps/place/Shot+Tower+Coffee/@39.937572
 8,-75.1553852,17z/data=!3m1!4b1!4m2!3m1!1s0x89c6c8a01f16f605:0x7219ad6
 850e109fb
URL:https://www.google.com/maps/place/Shot+Tower+Coffee/@39.9375728,-7
 5.1553852,17z/data=!3m1!4b1!4m2!3m1!1s0x89c6c8a01f16f605:0x7219ad6850e
 109fb
CONTACT:267-797-8627
ORGANIZER:Tell Me A Story
ATTACH;FMTTYPE="image/jpeg":http://storage.ning.com/topology/rest/1.0/
 file/get/3054995663?profile=original
ATTENDEE;ROLE=REQ-PARTICIPANT;PARTSTAT=ACCEPTED;RSVP=TRUE;CN="Hillary 
 Rea":http://phillytodo.com/profile/HillaryRea
END:VEVENT
END:VCALENDAR
