BEGIN:VCALENDAR
PRODID:NingEventWidget-v1
VERSION:2.0
METHOD:PUBLISH
BEGIN:VEVENT
UID:4320450:Event:39604
DTSTAMP:20260425T164542Z
SUMMARY:Tell Me A Story: Clean Slate
DESCRIPTION:An evening of true funny stories.  Featuring:\nJim Breslin
 \nJackie Cohen\nChris Davis\nKitty Hailey\nKatonya Mosley\nThomas Fox 
 Parry\nWill Poskitt\nBecca Trabin  and hosted by Hillary Rea   $5 adm
 ission at the door (cash or credit)  Tell Me A Story - http://tellmea
 story.info/ Shot Tower Coffee - http://shottowercoffee.com/ Hillary R
 ea - http://hillaryrea.com/\n\nFor more information visit http://phil
 lytodo.com/events/tell-me-a-story-clean-slate
DTSTART:20150122T000000Z
DTEND:20150122T020000Z
CATEGORIES:storytelling, event
LOCATION:Shot Tower Coffee
WEBSITE:http://shottowercoffee.com
URL:http://shottowercoffee.com
CONTACT:
ORGANIZER:Hillary Rea/Tell Me A Story
ATTACH;FMTTYPE="image/jpeg":http://storage.ning.com/topology/rest/1.0/
 file/get/3054986033?profile=original
END:VEVENT
END:VCALENDAR
