BEGIN:VCALENDAR
PRODID:NingEventWidget-v1
VERSION:2.0
METHOD:PUBLISH
BEGIN:VEVENT
UID:4320450:Event:49206
DTSTAMP:20260425T163230Z
SUMMARY:Tell Me A Story: Choose Your Own Adventure
DESCRIPTION:\nAn evening of true and funny stories on the theme “Ch
 oose Your Own Adventure” hosted by Hillary Rea. \n \nFeaturing sto
 rytellers Martha Cooney, Brian Durkin, Jaime Fountaine, Sidney Gantt, 
 Jamie Gdovin, Matt Tsang, Marjorie Winther\n \nDoors at 7pm, Stories 
 at 7:30pm\n$5 (cash or credit) at the door\nSeating is limited and fir
 st come first serve. \n\nFor more information visit http://phillytodo
 .com/events/tell-me-a-story-choose-your-own-adventure-1
DTSTART:20170119T000000Z
DTEND:20170119T020000Z
CATEGORIES:storytelling, comedy
LOCATION:Shot Tower Coffee
WEBSITE:https://goo.gl/maps/5ou8Xao3jCF2
URL:https://goo.gl/maps/5ou8Xao3jCF2
CONTACT:267-797-8627
ORGANIZER:Tell Me A Story
ATTACH;FMTTYPE="image/jpeg":http://storage.ning.com/topology/rest/1.0/
 file/get/3055001595?profile=original
ATTENDEE;ROLE=REQ-PARTICIPANT;PARTSTAT=ACCEPTED;RSVP=TRUE;CN="Hillary 
 Rea":http://phillytodo.com/profile/HillaryRea
END:VEVENT
END:VCALENDAR
