BEGIN:VCALENDAR
PRODID:NingEventWidget-v1
VERSION:2.0
METHOD:PUBLISH
BEGIN:VEVENT
UID:4320450:Event:36457
DTSTAMP:20260425T142745Z
SUMMARY:Tell Me A Story: Birthdays
DESCRIPTION:An evening of funny stories on a theme.  Hosted by Hillary
  Rea (http://hillaryrea.com/)  Featuring  \nCecily Chapmen\nVickie Fe
 rnandez\nAnna Goldfarb\nEmily McGraw\nZeeshan Nayeemuddin\nAmanda Feif
 er O'Brien\n\nDoors at 7:00 pm\nShow at 7:30 pm\n$5 at the door\n\nRSV
 P and tell your friends: http://on.fb.me/1scLqSR\n\nFor more informat
 ion visit http://phillytodo.com/events/tell-me-a-story-birthdays
DTSTART:20140521T230000Z
DTEND:20140522T010000Z
CATEGORIES:"comedy/storytelling", show
LOCATION:Shot Tower Coffee
WEBSITE:http://shottowercoffee.com
URL:http://shottowercoffee.com
CONTACT:
ORGANIZER:Tell Me A Story
ATTACH;FMTTYPE="image/jpeg":http://storage.ning.com/topology/rest/1.0/
 file/get/3054974404?profile=original
ATTENDEE;ROLE=REQ-PARTICIPANT;PARTSTAT=ACCEPTED;RSVP=TRUE;CN="Hillary 
 Rea":http://phillytodo.com/profile/HillaryRea
END:VEVENT
END:VCALENDAR
