BEGIN:VCALENDAR
PRODID:NingEventWidget-v1
VERSION:2.0
METHOD:PUBLISH
BEGIN:VEVENT
UID:4320450:Event:59107
DTSTAMP:20260425T100406Z
SUMMARY:Tell Me A Story: Big Break
DESCRIPTION:A night of true stories on the theme Big Break. Hosted by 
 Hillary Rea.\nFeaturing: Joe Felicetti, Jaime Fountaine, Gregg Gethard
 , Paige Kenley, Christina May, and Alyssa Truszkowski\nWednesday, Sept
 ember 18th, 2019\nat\nShot Tower Coffee (542 Christian Street)\nDoors 
 at 7pm, Stories at 7:30pm\n$10 (cash or credit) at the door\n\nFor mor
 e information visit http://phillytodo.com/events/tell-me-a-story-big-b
 reak
DTSTART:20190918T230000Z
DTEND:20190919T010000Z
CATEGORIES:storytelling, live, event
LOCATION:Shot Tower Coffee
WEBSITE:https://goo.gl/maps/D8EsqWJ63g62
URL:https://goo.gl/maps/D8EsqWJ63g62
CONTACT:267-797-8627
ORGANIZER:Tell Me A Story
ATTACH;FMTTYPE="image/jpeg":https://storage.ning.com/topology/rest/1.0
 /file/get/3523466363?profile=original
ATTENDEE;ROLE=REQ-PARTICIPANT;PARTSTAT=ACCEPTED;RSVP=TRUE;CN="Hillary 
 Rea":http://phillytodo.com/profile/HillaryRea
END:VEVENT
END:VCALENDAR
