BEGIN:VCALENDAR
PRODID:NingEventWidget-v1
VERSION:2.0
METHOD:PUBLISH
BEGIN:VEVENT
UID:4320450:Event:36545
DTSTAMP:20260425T130616Z
SUMMARY:Ted Baker London's first Pennsylvania store opens this weekend
  at the King of Prussia Mall!
DESCRIPTION: Friday, May 2nd & Saturday, May 3rd: 11am-7pm Sunday, May
  4th: 12pm-6pm\n\nThroughout opening weekend, enjoy:\n\nGiveaways\nCom
 plimentary Fever-Tree Sparkling Beverages & Gourmet Popcorn Special 
 Gift with Purchase (over $350) and take photos in Ted's special \"Get 
 In On the Act\" photo booth!  Exclusive giveaway: Tweet to @TedBaker_U
 SA using the hashtag #TedLovesKOP and show a sales associate in-store
  to receive your special gift!\n\nFor more information visit http://p
 hillytodo.com/events/ted-baker-london-s-first-pennsylvania-store-opens
 -this-weekend-at
DTSTART:20140503T150000Z
DTEND:20140503T230000Z
CATEGORIES:ted, baker, london, king, of, prussia, store, opening
LOCATION:King of Prussia Mall
WEBSITE:
URL:
CONTACT:
ORGANIZER;CN="Skai Blue Media":http://phillytodo.com/profile/SkaiBlueM
 edia
ATTACH;FMTTYPE="image/jpeg":
ATTENDEE;ROLE=REQ-PARTICIPANT;PARTSTAT=ACCEPTED;RSVP=TRUE;CN="Skai Blu
 e Media":http://phillytodo.com/profile/SkaiBlueMedia
END:VEVENT
END:VCALENDAR
