BEGIN:VCALENDAR
PRODID:NingEventWidget-v1
VERSION:2.0
METHOD:PUBLISH
BEGIN:VEVENT
UID:4320450:Event:27723
DTSTAMP:20260425T114240Z
SUMMARY:Tasting: Wine and Border Crossings
DESCRIPTION:What difference does a border crossing make?\n\nDifferent 
 countries may be separated by rivers and mountains, highways, or other
  arbitrary lines. These political boundaries emphasize national differ
 entiation, but the divided regions and lands may share a lot in common
  - including grape varietals and climate.\n\nJoin us as we compare the
  style, tradition, and \"flavor\" of wines from countries with grape-g
 rowing regions that border one another.\n\nWe will taste Cabernet Sauv
 ignon from both Chile and Argentina, Grenache/Garnacha from Spain and 
 France, and the grape formerly-known-as Tocai Fruiliano from Italy and
  Slovenia.\n\nCome taste the difference a border makes.\n \nJoin Bob 
 Barrett, certified expert of wine, in this installment of our Global P
 assport Tasting Series.\n\nOrder tickets via Eventbrite:\nhttp://winea
 ndborders-efbevent.eventbrite.com\n\nFor more information visit http:/
 /phillytodo.com/events/tasting-wine-and-border-crossings
DTSTART:20120814T223000Z
DTEND:20120815T003000Z
CATEGORIES:wine, tasting
LOCATION:Jet Wine Bar
WEBSITE:http://jetwinebar.com/
URL:http://jetwinebar.com/
CONTACT:
ORGANIZER:
ATTACH;FMTTYPE="image/jpeg":
ATTENDEE;ROLE=REQ-PARTICIPANT;PARTSTAT=ACCEPTED;RSVP=TRUE;CN="Lauren W
 enzel":http://phillytodo.com/profile/JacklinRhoads
END:VEVENT
END:VCALENDAR
