BEGIN:VCALENDAR
PRODID:NingEventWidget-v1
VERSION:2.0
METHOD:PUBLISH
BEGIN:VEVENT
UID:4320450:Event:1882
DTSTAMP:20260425T160043Z
SUMMARY:Tasting Time at Octo Waterfront Grille
DESCRIPTION:Grab your friends, invite your co-workers, tell your famil
 y. This is expected to again one of the largest wine Tasting Time™ y
 oung professionals events to date at the BRAND NEW Octo Waterfront Gri
 lle (previously known as Rock Lobster) with an amazing atmosphere, stu
 nning views of the marina and the Ben Franklin bridge high above you, 
 and a very exciting time - guaranteed! With room for up to 400+ people
 , this indoor/outdoor event under the giant tents is rain or shine wit
 h plenty of room. Be sure to check out the custom lobster tank - it is
  way cool!\n\nWhat better way to spend an evening after-work then with
  a premier Tasting Time party - with spectacular wines and incredible 
 views! The party comes complete with select choices of 6 wines & champ
 agnes to taste as well as abundant menu samples from the amazing Octo 
 menu. To remeber this evening each guest will receive a souvenir tasti
 ng glass plus alll menu items at Octo are 10% off . Relax, kick back, 
 learn about wine from our wine experts, and take in sights with other 
 young professionals.\n\nThere are limited spots available for this lat
 est Tasting Time event - and the will sell out quickly - just like the
  past 5 events have! Sign up now so you do not miss out. This is not a
  sit-down dinner and is instead a fun, interactive social happy hour a
 tmosphere!\n\nTickets for this awesome opportunity to experience Octo 
 Waterfront Grill are just $25 in advance and $30 at the door (if not s
 old out).\n\nFor more information visit http://phillytodo.com/events/t
 asting-time-at-octo
DTSTART:20100805T223000Z
DTEND:20100806T010000Z
CATEGORIES:wine, tasting
LOCATION:Octo Waterfront Grille
WEBSITE:http://www.UpcomingEvents.com/event/4909/ptodo/
URL:http://www.UpcomingEvents.com/event/4909/ptodo/
CONTACT:
ORGANIZER;CN="UpcomingEvents.com":http://phillytodo.com/profile/Upcomi
 ngEventscom
ATTACH;FMTTYPE="image/jpeg":http://storage.ning.com/topology/rest/1.0/
 file/get/3054950246?profile=original
ATTENDEE;ROLE=REQ-PARTICIPANT;PARTSTAT=ACCEPTED;RSVP=TRUE;CN="Upcoming
 Events.com":http://phillytodo.com/profile/UpcomingEventscom
END:VEVENT
END:VCALENDAR
