BEGIN:VCALENDAR
PRODID:NingEventWidget-v1
VERSION:2.0
METHOD:PUBLISH
BEGIN:VEVENT
UID:4320450:Event:28103
DTSTAMP:20260425T115011Z
SUMMARY:Tasting Retro Wines
DESCRIPTION:Everything Old is New Again!  \nAnd in this case, the new
  is better than ever.   \nChablis, Soave, Asti Spumante...  these ar
 e \"retro\" names in need of a reputation boost.\nWhy? High-quality ex
 pressions of these wines are among the best in the world. But, the ver
 sions that were introduced into the US market in the 1960s and 1970s w
 ere mass-produced, cheap, sweet, and generally poor expressions of the
 ir types.     Join Bob Barrett and Jet Wine Bar as we taste 5, moder
 n examples of these \"retro\" wines. Relax and learn just how good the
 y can be!  Light snacks provided.    Read more about our Global Pass
 port Tasting Series:\nhttp://jetwinebar.tumblr.com/Passport\n\nFor mor
 e information visit http://phillytodo.com/events/tasting-retro-wines
DTSTART:20121002T223000Z
DTEND:20121003T003000Z
CATEGORIES:wine, tasting
LOCATION:Jet Wine Bar
WEBSITE:http://jetwinebar.com/
URL:http://jetwinebar.com/
CONTACT:215-735-1116
ORGANIZER:Lauren Wenzel
ATTACH;FMTTYPE="image/jpeg":
ATTENDEE;ROLE=REQ-PARTICIPANT;PARTSTAT=ACCEPTED;RSVP=TRUE;CN="Lauren W
 enzel":http://phillytodo.com/profile/JacklinRhoads
END:VEVENT
END:VCALENDAR
