BEGIN:VCALENDAR
PRODID:NingEventWidget-v1
VERSION:2.0
METHOD:PUBLISH
BEGIN:VEVENT
UID:4320450:Event:34754
DTSTAMP:20260425T125139Z
SUMMARY:TASTE of Philly - The 7th Annual Culinary Sampling Experience!
DESCRIPTION:Welcome to the TASTE 2013 Official Ticket & Information Si
 te!  You are invited to spend an evening sampling food and drinks fro
 m the city's most delectable restaurants & top chefs along with great 
 DJ entertainment.  Enjoy a night created for all five senses!  A p
 ortion of proceeds will benefitNoKidHungry.org, a national child-relie
 f charity that works with local restaurants and the Greater Philadelph
 ia Coalition Against Hunger.\n\nFor more information visit http://phil
 lytodo.com/events/taste-of-philly-the-7th-annual-culinary-sampling-exp
 erience
DTSTART:20131113T230000Z
DTEND:20131114T020000Z
CATEGORIES:charity, fundraiser, food, tasting, wine, culinary
LOCATION:The Crystal Tea Room
WEBSITE:http://www.upcomingevents.com/philadelphia/taste-of-philly/pt0
 do/
URL:http://www.upcomingevents.com/philadelphia/taste-of-philly/pt0do/
CONTACT:
ORGANIZER;CN="UpcomingEvents.com":http://phillytodo.com/profile/Upcomi
 ngEventscom
ATTACH;FMTTYPE="image/jpeg":http://storage.ning.com/topology/rest/1.0/
 file/get/3054967795?profile=original
ATTENDEE;ROLE=REQ-PARTICIPANT;PARTSTAT=ACCEPTED;RSVP=TRUE;CN="Upcoming
 Events.com":http://phillytodo.com/profile/UpcomingEventscom
END:VEVENT
END:VCALENDAR
