BEGIN:VCALENDAR
PRODID:NingEventWidget-v1
VERSION:2.0
METHOD:PUBLISH
BEGIN:VEVENT
UID:4320450:Event:46972
DTSTAMP:20260425T133039Z
SUMMARY:Tappin' the Trucks: Brews n' Bites Block Party
DESCRIPTION:Taproom on 19th (2400 S. 19th) and the Philly Mobile Food 
 Truck Association celebrate the return of fall with their second “Ta
 ppin’ The Trucks, Brews n’ Bites Block Party” on Sunday, October
  16, 2016, from Noon to 7:00pm. Five food trucks and five local brewer
 s will pop-up outside of Taproom for an afternoon of brews, bites and 
 live tunes. The taps will be flowing with all craft drafts specially p
 riced. Food trucks will include The Cow and the Curd, J'eet, Oink and 
 Moo BBQ, Foolish Waffles, Sweet Box. Local breweries to be announced. 
 All food and drink will be pay-as-you-go, cash only. Children and pets
  are welcome. 21 and over to drink (with identification). For more inf
 ormation, visit  www.taproomon19th.com.\n\nFor more information visit
  http://phillytodo.com/events/tappin-the-trucks-brews-n-bites-block-pa
 rty
DTSTART:20161016T160000Z
DTEND:20161016T230000Z
CATEGORIES:food, festival
LOCATION:Taproom on 19th
WEBSITE:https://www.facebook.com/events/896881737111676/
URL:https://www.facebook.com/events/896881737111676/
CONTACT:215-840-9216
ORGANIZER;CN="Aversa PR & Events":http://phillytodo.com/profile/KoryAv
 ersa277
ATTACH;FMTTYPE="image/jpeg":http://storage.ning.com/topology/rest/1.0/
 file/get/3054997077?profile=original
ATTENDEE;ROLE=REQ-PARTICIPANT;PARTSTAT=ACCEPTED;RSVP=TRUE;CN="Aversa P
 R & Events":http://phillytodo.com/profile/KoryAversa277
END:VEVENT
END:VCALENDAR
