BEGIN:VCALENDAR
PRODID:NingEventWidget-v1
VERSION:2.0
METHOD:PUBLISH
BEGIN:VEVENT
UID:4320450:Event:1333
DTSTAMP:20260425T125001Z
SUMMARY:Tapas & Local Beer/Wine Tasting
DESCRIPTION:Join us on Earth Day for an informal evening of meticulous
 ly chosen local wines/beer, delicious healthy food by Chef Joe and lot
 s of great, down to earth people.\n\n$50pp (includes tax/tip)\n\nSpons
 ored by Body Solutions, Inc\n\nSustainable Cherry Hill is a 501c3 non 
 profit with a mission of bringing people together to create a sustaina
 ble South Jersey.\n\nFor more information visit http://phillytodo.com/
 events/tapas-local-beerwine-tasting
DTSTART:20100422T223000Z
DTEND:20100423T010000Z
CATEGORIES:fund, raiser, "&", great, time
LOCATION:Mirabella Cafe
WEBSITE:http://www.mirabellacafe.com/
URL:http://www.mirabellacafe.com/
CONTACT:856.354.1888
ORGANIZER:Sustainable Cherry Hill
ATTACH;FMTTYPE="image/jpeg":http://storage.ning.com/topology/rest/1.0/
 file/get/3054946462?profile=original
ATTENDEE;ROLE=REQ-PARTICIPANT;PARTSTAT=ACCEPTED;RSVP=TRUE;CN="Lori Bra
 unstein":http://phillytodo.com/profile/LoriBraunstein
END:VEVENT
END:VCALENDAR
