BEGIN:VCALENDAR
PRODID:NingEventWidget-v1
VERSION:2.0
METHOD:PUBLISH
BEGIN:VEVENT
UID:4320450:Event:49035
DTSTAMP:20260425T143452Z
SUMMARY:Tap the Keg: Exit 3 Blueberry Braggot
DESCRIPTION:Flying Fish Brewing has created yet another amazing brew!
  On Thursday, February 9th at 4:00 pm, the new Exit 3 Blueberry Bragg
 ot is being tapped for the first time, and we’re throwing a kickoff
  party at the Crafthouse!\nCome out and be one of the first to taste t
 his amazing 15% ABV Blueberry delight! Local Philly music icon, Will W
 illiams will be playing some of your favorite tunes and we’ll be fea
 turing some awesome eats from Chef Brian Duffy!\nBe sure to check out 
 our Beer Garden for a game or two. Beer Pong, Giant Jenga and more wil
 l be happening all night!\n\n\nFor more information visit http://phill
 ytodo.com/events/tap-the-keg-exit-3-blueberry-braggot
DTSTART:20170209T210000Z
DTEND:20170210T070000Z
CATEGORIES:beer, tasting
LOCATION:Flying Fish Crafthouse
WEBSITE:http://ffcrafthouse.com/event/tap-keg-exit-3-blueberry-braggot
 /?utm_source=Philly2Night&utm_campaign=Event&utm_medium=Event_Listing&
 utm_content=Tap%20the%20Keg%3A%20Exit%203%20Blueberry%20Braggot
URL:http://ffcrafthouse.com/event/tap-keg-exit-3-blueberry-braggot/?ut
 m_source=Philly2Night&utm_campaign=Event&utm_medium=Event_Listing&utm_
 content=Tap%20the%20Keg%3A%20Exit%203%20Blueberry%20Braggot
CONTACT:
ORGANIZER:
ATTACH;FMTTYPE="image/jpeg":http://storage.ning.com/topology/rest/1.0/
 file/get/3055001553?profile=original
ATTENDEE;ROLE=REQ-PARTICIPANT;PARTSTAT=ACCEPTED;RSVP=TRUE;CN="Upcoming
 Events.com":http://phillytodo.com/profile/UpcomingEventscom
END:VEVENT
END:VCALENDAR
