BEGIN:VCALENDAR
PRODID:NingEventWidget-v1
VERSION:2.0
METHOD:PUBLISH
BEGIN:VEVENT
UID:4320450:Event:43807
DTSTAMP:20260425T124914Z
SUMMARY:TangenT’s RedAct
DESCRIPTION:InLiquid presents the final installment of TangenT’s Re
 dAct series at The Icebox Project Space and Grey Area at Crane Arts f
 rom January 14 – 29, 2016. RedAct is a series of artworks that explo
 res visual renderings of facts detailed in redacted public documents. 
 Drawing from state and federal reporting on children and institutions 
 that govern child welfare, along with redaction in its many forms, the
  redact series is as much a meditation on information control, privacy
 , truth, and the increasing vagaries of childhood in America, as much 
 as it is about what is left behind, what we can record, see and know.\
 nFly Spec No. 1, the inaugural artwork in the series, designed for the
  Dumbo Arts Festival 2014, uses the patterns of redacted text coupled 
 with an original soundtrack as a metaphor for disconnection of experie
 nce, falsehood and a suspension of truth. In Fly Spec No. 2 from the s
 eries RedAct, 2014, it is both an artifact of an earlier performance a
 nd mediation on recording a memory of an event. The artworks rely on i
 ntentional use of imagery and material as metaphor. The third iteratio
 n, in collaboration with InLiquid for Philly Tech Week 2015, occurred 
 on April 23rd at the Kimmel Center. TangenT used three areas—the Cub
 e, a screen inside the Kimmel, and a stage—where they held a second 
 performance in their Tyvec suits – with projections of hands redacti
 ng information on their bodies, with live music and sound from Mike Br
 enner and percussionist Hoagey Wing. The fourth and final installment 
 at Crane Arts will pull together these previous elements, including so
 und, projection, performance, artifacts from previous performances, an
 d newly created objects, to create a completely immersed environment b
 ased on the theme of redaction. As a part of InLiquid’s Art for Acti
 on series, there will be additional public programming, including a li
 ve performance by TangenT at the opening reception and a panel discuss
 ion on art and social practice (details TBA).\nFounded in 2007 by InLi
 quid artist members Yvonne Love, Gabrielle Russomagno, William Cromar,
  and Mike “Slo-Mo” Brenner, TangenT (collaborative) is dedicated t
 o mixed-media, project-based, immersive art environments exploring soc
 ially relevant and politically current themes. Originally designed as 
 a side project meant to explore the intersection of traditional fine a
 rt media with new media forms, their collaborative efforts over the pa
 st seven years have become an essential part of their creative lives s
 haping and informing their artistic endeavors.\nThe public hours for C
 rane Arts are noon – 6 pm, Wednesday – Saturday, and until 9 pm on
  the Second Thursday of each month.\n\nFor more information visit http
 ://phillytodo.com/events/tangent-s-redact
DTSTART:20160114T230000Z
DTEND:20160115T020000Z
CATEGORIES:opening, reception
LOCATION:Crane Arts Building
WEBSITE:http://inliquid.org/happenings/inliquid-projects/crane-hall/re
 dact-crane-hall/
URL:http://inliquid.org/happenings/inliquid-projects/crane-hall/redact
 -crane-hall/
CONTACT:215-235-3405
ORGANIZER;CN="InLiquid Studios":http://phillytodo.com/profile/InLiquid
 Studios
ATTACH;FMTTYPE="image/jpeg":http://storage.ning.com/topology/rest/1.0/
 file/get/3054993815?profile=original
ATTENDEE;ROLE=REQ-PARTICIPANT;PARTSTAT=ACCEPTED;RSVP=TRUE;CN="InLiquid
  Studios":http://phillytodo.com/profile/InLiquidStudios
END:VEVENT
END:VCALENDAR
