BEGIN:VCALENDAR
PRODID:NingEventWidget-v1
VERSION:2.0
METHOD:PUBLISH
BEGIN:VEVENT
UID:4320450:Event:40910
DTSTAMP:20260425T161827Z
SUMMARY:Tall Trees Nature Playscape Playdate
DESCRIPTION:Come for fun in our natural playscape to explore the mud k
 itchen, play on the music wall, and more as you and your children enjo
 y the wonders of the outdoors while meeting other families.  For ages
  3 and up (children must be accompanied by an adult).\n\nFor more info
 rmation visit http://phillytodo.com/events/tall-trees-nature-playscape
 -playdate
DTSTART:20150718T140000Z
DTEND:20150718T160000Z
CATEGORIES:family, event
LOCATION:Schuylkill Center for Environmental Education
WEBSITE:http://www.schuylkillcenter.org/blog/event/tall-trees-nature-p
 layscape-playdate-2/
URL:http://www.schuylkillcenter.org/blog/event/tall-trees-nature-plays
 cape-playdate-2/
CONTACT:215-482-7300, x110
ORGANIZER;CN="The Schuylkill Center":http://phillytodo.com/profile/Ann
 aLehrMueser
ATTACH;FMTTYPE="image/jpeg":http://storage.ning.com/topology/rest/1.0/
 file/get/3054988506?profile=original
ATTENDEE;ROLE=REQ-PARTICIPANT;PARTSTAT=ACCEPTED;RSVP=TRUE;CN="The Schu
 ylkill Center":http://phillytodo.com/profile/AnnaLehrMueser
END:VEVENT
END:VCALENDAR
