BEGIN:VCALENDAR
PRODID:NingEventWidget-v1
VERSION:2.0
METHOD:PUBLISH
BEGIN:VEVENT
UID:4320450:Event:43011
DTSTAMP:20260425T142555Z
SUMMARY:Tall Trees Nature Playscape Playdate
DESCRIPTION:Enjoy the fall outdoors: come for fun in our natural plays
 cape to explore the mud kitchen, play on the music wall, and more as y
 ou and your children enjoy the wonders of the outdoors while meeting o
 ther families.  For ages 3 and up (children must be accompanied by an
  adult).\nRegistration:\nPlease call 215-482-7300, x110 or register on
 line\n\nFor more information visit http://phillytodo.com/events/tall-t
 rees-nature-playscape-playdate-2
DTSTART:20151107T150000Z
DTEND:20151107T170000Z
CATEGORIES:free, family, outdoor, fun
LOCATION:Schuylkill Center for Environmental Education
WEBSITE:http://www.schuylkillcenter.org
URL:http://www.schuylkillcenter.org
CONTACT:215-482-7300, x110
ORGANIZER;CN="The Schuylkill Center":http://phillytodo.com/profile/Ann
 aLehrMueser
ATTACH;FMTTYPE="image/jpeg":http://storage.ning.com/topology/rest/1.0/
 file/get/3054990463?profile=original
ATTENDEE;ROLE=REQ-PARTICIPANT;PARTSTAT=ACCEPTED;RSVP=TRUE;CN="The Schu
 ylkill Center":http://phillytodo.com/profile/AnnaLehrMueser
END:VEVENT
END:VCALENDAR
