BEGIN:VCALENDAR
PRODID:NingEventWidget-v1
VERSION:2.0
METHOD:PUBLISH
BEGIN:VEVENT
UID:4320450:Event:170973
DTSTAMP:20260425T123721Z
SUMMARY:Talk: How to be Happy in Unhappy Times
DESCRIPTION:with Special Guest Teacher, Kadam Morten Clausen\nResiden
 t Teacher of Kadampa Meditation Center New York City and Eastern US Na
 tional Spiritual Director of the NKT/IKBU\n\nWe are living in times o
 f massive global upheaval and uncertainty. Is it possible to be happy 
 in a world overrun with so much pain, injustice, sickness, and war? Ye
 s. According to Buddha, not only is it possible, but through learning 
 to increase and stabilize our own experience of happiness, we also inc
 rease our ability to help those around us.\n \nDuring this talk, Kada
 m Morten will show us how we can tap into deeply peaceful and positive
  minds through the practice of meditation. Just by beginning to gain e
 xperience of these beautiful, rich internal states opens us to an extr
 aordinary sense of our own potential. Happiness is possible, both for 
 ourselves and others, and even now, during these difficult times. More
 over, because these times are generally regarded as ‘unhappy’, it 
 makes it all the more important to nurture such authentic happiness no
 w, so that we can help bring it to others, and to our world!\n \nEver
 yone welcome. $15/person\n\nFor more information visit http://phillyto
 do.com/events/talk-how-to-be-happy-in-unhappy-times
DTSTART:20220916T230000Z
DTEND:20220917T003000Z
CATEGORIES:meditation, "&amp", talk
LOCATION:Kadampa Meditation Center Philadelphia
WEBSITE:https://www.meditationinphiladelphia.org/special-events
URL:https://www.meditationinphiladelphia.org/special-events
CONTACT:267-702-3817
ORGANIZER;CN="Education Program Coordinator":http://phillytodo.com/pro
 file/EducationProgramCoordinator
ATTACH;FMTTYPE="image/jpeg":https://storage.ning.com/topology/rest/1.0
 /file/get/10792224071?profile=original
ATTENDEE;ROLE=REQ-PARTICIPANT;PARTSTAT=ACCEPTED;RSVP=TRUE;CN="Educatio
 n Program Coordinator":http://phillytodo.com/profile/EducationProgramC
 oordinator
END:VEVENT
END:VCALENDAR
