BEGIN:VCALENDAR
PRODID:NingEventWidget-v1
VERSION:2.0
METHOD:PUBLISH
BEGIN:VEVENT
UID:4320450:Event:52008
DTSTAMP:20260425T124846Z
SUMMARY:Taking Back Sunday
DESCRIPTION:Taking Back Sunday returns to XFINITY Live! as on Saturday
 , September 23!Tickets on sale now!\nDoors at 6pm. Show at 8:00pm. Mu
 st be 21+Regular GA tickets are $15 and go up to $20 on the day of sho
 w. VIP tickets are $45.\n\nFor more information visit http://phillyto
 do.com/events/taking-back-sunday
DTSTART:20170924T000000Z
DTEND:20170924T030000Z
CATEGORIES:concert
LOCATION:XFINITY Live! Philadelphia
WEBSITE:http://www.xfinitylive.com/entertainment/event/11153
URL:http://www.xfinitylive.com/entertainment/event/11153
CONTACT:
ORGANIZER;CN="XFINITY Live! Philadelphia":http://phillytodo.com/profil
 e/XFINITYLivePhiladelphia
ATTACH;FMTTYPE="image/jpeg":http://storage.ning.com/topology/rest/1.0/
 file/get/3055009541?profile=original
ATTENDEE;ROLE=REQ-PARTICIPANT;PARTSTAT=ACCEPTED;RSVP=TRUE;CN="XFINITY 
 Live! Philadelphia":http://phillytodo.com/profile/XFINITYLivePhiladelp
 hia
END:VEVENT
END:VCALENDAR
