BEGIN:VCALENDAR
PRODID:NingEventWidget-v1
VERSION:2.0
METHOD:PUBLISH
BEGIN:VEVENT
UID:4320450:Event:39133
DTSTAMP:20260425T124906Z
SUMMARY:Take Me Home Tonight 7
DESCRIPTION:Thanksgiving Eve has long been considered the most travele
 d night-life evening of the year. The producers of this event have put
  together over 25 successful Thanksgiving Eves between them since 1999
  and have been collaborating on one mega event for the last 5 years. I
 n the past, this event has seen more than 2,000 guests come through th
 e door. THIS YEAR WE WILL TAKE IT TO ANOTHER LEVEL WITH AN INCREDIBLE 
 NEW LOCATION - BUT WITH LESS TICKETS AVAILABLE. SO GET YOURS NOW!TAKE 
 ME HOME TONIGHT 7@LUCKY STRIKE1336 Chestnut St - Philadelphia, PAThank
 sgiving Eve, Wednesday November 26, 20149pm - 2amComplimentary Select
  Open Bar from 9 - 10pmTICKET PRICE SUBJECT TO CHANGE NIGHT OF EVENT\
 n \n \nTickets & More Info:  Tickets & More Info: http://www.upco
 mingevents.com/e/take-me-home-tonight-7-20770/?ref=ptodo\n\nFor more i
 nformation visit http://phillytodo.com/events/take-me-home-tonight-7
DTSTART:20141127T020000Z
DTEND:20141127T070000Z
CATEGORIES:nightlife
LOCATION:Lucky Strike Lanes
WEBSITE:http://www.upcomingevents.com/e/take-me-home-tonight-7-20770/?
 ref=ptodo
URL:http://www.upcomingevents.com/e/take-me-home-tonight-7-20770/?ref=
 ptodo
CONTACT:(215) 545-2471
ORGANIZER;CN="UpcomingEvents.com":http://phillytodo.com/profile/Upcomi
 ngEventscom
ATTACH;FMTTYPE="image/jpeg":http://storage.ning.com/topology/rest/1.0/
 file/get/3054984900?profile=original
ATTENDEE;ROLE=REQ-PARTICIPANT;PARTSTAT=ACCEPTED;RSVP=TRUE;CN="Upcoming
 Events.com":http://phillytodo.com/profile/UpcomingEventscom
END:VEVENT
END:VCALENDAR
