BEGIN:VCALENDAR
PRODID:NingEventWidget-v1
VERSION:2.0
METHOD:PUBLISH
BEGIN:VEVENT
UID:4320450:Event:36422
DTSTAMP:20260425T173744Z
SUMMARY:T-Squared at The Market & Shops at Comcast Center
DESCRIPTION:The Market & Shops at Comcast Center invites you to celebr
 ate the official launch of #TSQUARED and the unveiling of “Art at th
 e Center”! Enjoy an evening of light bites, sips, and live sketching
  by famed local artist Denise Fike, while surrounding yourself with wo
 rks from local artists and students from the University of the Arts, M
 oore College of Art, Tyler School of Art, and the Pennsylvania Academy
  of Fine Art. Kindly RSVP to Cashman & Associates by Friday April 18, 
 2014 to rsvp@cashmanandassociates.com or 215.627.1082 x 102. RSVP Requ
 ired.\n \n\nFor more information visit http://phillytodo.com/events/t
 -squared-at-the-market-shops-at-comcast-center
DTSTART:20140422T210000Z
DTEND:20140422T230000Z
CATEGORIES:community, arts
LOCATION:The Market & Shops at Comcast Center
WEBSITE:
URL:
CONTACT:215-627-1060
ORGANIZER:Michelle
ATTACH;FMTTYPE="image/jpeg":http://storage.ning.com/topology/rest/1.0/
 file/get/3054973942?profile=original
ATTENDEE;ROLE=REQ-PARTICIPANT;PARTSTAT=ACCEPTED;RSVP=TRUE;CN="Gina Nod
 ar":http://phillytodo.com/profile/GinaNodar
END:VEVENT
END:VCALENDAR
