BEGIN:VCALENDAR
PRODID:NingEventWidget-v1
VERSION:2.0
METHOD:PUBLISH
BEGIN:VEVENT
UID:4320450:Event:3982
DTSTAMP:20260425T125027Z
SUMMARY:Synergy @ RECESS Lounge
DESCRIPTION:SYNERGY [sin-er-jee] –noun,the cooperative action of two
  or more stimuli, combined action or functioning; synergism. This spec
 ial event will strat off with a Complimentary 1hr open bar sponsored b
 y BELVEDERE at 10pm.$4.00 domestic and $5.00 imported beers & Belveder
 e cocktails $6.00 there afterMusic will be high energy and finely blen
 ded to stimulate your senses with DJ Eddie Tully and \"The Legendary\"
  Robbie TroncoFree Podcast Downloads Available @www.djeddietully.comww
 w.djrobbietronco.com$10.00 cover from 10pm - 1:30am (stay and party ti
 ll 3:30am)RECESS LoungeThe Manayunk Social Club125 S 2nd StreetPhilade
 lphia PA 19106\n\nFor more information visit http://phillytodo.com/eve
 nts/synergy-recess-lounge
DTSTART:20110206T030000Z
DTEND:20110206T063000Z
CATEGORIES:club, "/", lounge
LOCATION:Recess Lounge
WEBSITE:http://www.facebook.com/#!/event.php?eid=143821512341467
URL:http://www.facebook.com/#!/event.php?eid=143821512341467
CONTACT:
ORGANIZER:The Mayaunk Social Club
ATTACH;FMTTYPE="image/jpeg":http://storage.ning.com/topology/rest/1.0/
 file/get/3054954104?profile=original
ATTENDEE;ROLE=REQ-PARTICIPANT;PARTSTAT=ACCEPTED;RSVP=TRUE;CN="Eddie Tu
 lly":http://phillytodo.com/profile/EddieTully508
END:VEVENT
END:VCALENDAR
