BEGIN:VCALENDAR
PRODID:NingEventWidget-v1
VERSION:2.0
METHOD:PUBLISH
BEGIN:VEVENT
UID:4320450:Event:170414
DTSTAMP:20260425T113056Z
SUMMARY:Syd Carpenter. Earth Offerings: Honoring the Gardeners
DESCRIPTION:Rowan University Art Gallery is thrilled to present Earth 
 Offerings: Honoring the Gardeners, a new solo exhibition of Syd Carpen
 ter’s ceramic sculptures. Through her work, Syd Carpenter identifies
  and honors the legacy of African American farmers and gardeners. In h
 er new series Farm Bowls, each sculpture draws inspiration from archit
 ectural and organic forms Carpenter observed on African American farms
  visited during a road trip through southern states.\n\nFor more infor
 mation visit http://phillytodo.com/events/syd-carpenter-earth-offering
 s-honoring-the-gardeners
DTSTART:20220124T050000Z
DTEND:20220327T035900Z
CATEGORIES:art, gallery
LOCATION:Rowan University Art Gallery
WEBSITE:http://rowan.edu/artgallery
URL:http://rowan.edu/artgallery
CONTACT:856-256-4521
ORGANIZER;CN="mary salvante":http://phillytodo.com/profile/marysalvant
 e
ATTACH;FMTTYPE="image/jpeg":https://storage.ning.com/topology/rest/1.0
 /file/get/10030208271?profile=original
ATTENDEE;ROLE=REQ-PARTICIPANT;PARTSTAT=ACCEPTED;RSVP=TRUE;CN="mary sal
 vante":http://phillytodo.com/profile/marysalvante
END:VEVENT
END:VCALENDAR
